BEGIN:VCALENDAR
VERSION:2.0
PRODID:-//ChamberMaster//Event Calendar 2.0//EN
METHOD:PUBLISH
X-PUBLISHED-TTL:P3D
REFRESH-INTERVAL:P3D
CALSCALE:GREGORIAN
BEGIN:VEVENT
DTSTART:20260613T140000Z
DTEND:20260613T220000Z
X-MICROSOFT-CDO-ALLDAYEVENT:FALSE
SUMMARY:6th Annual Five Stand Shooting Event
DESCRIPTION:Gus Garrison Masonic Lodge\n\n6th Annual Five Stand Shooting Event
X-ALT-DESC;FMTTYPE=text/html:Gus Garrison Masonic Lodge<br />\n6th Annual Five Stand Shooting Event
LOCATION:Winnsboro Gun Club CR 4403 Winnsboro\, TX
UID:e.1282.4875
SEQUENCE:3
DTSTAMP:20260420T215749Z
URL:http://business.winnsboro.com/events/details/6th-annual-five-stand-shooting-event-4875
END:VEVENT

END:VCALENDAR
